BEGIN:VCALENDAR
VERSION:2.0
PRODID:TU Chemnitz
METHOD:PUBLISH
X-WR-CALNAME:Veranstaltungen der TU Chemnitz
X-WR-TIMEZONE:Europe/Berlin
BEGIN:VEVENT
CLASS:PUBLIC
DTSTART;TZID="Europe/Berlin":20020417T193000
DTEND;TZID="Europe/Berlin":20020418T030000
LOCATION:Südbahnhof
SUMMARY:Semesterauftaktparty im Südbahnhof (Studentenrat)
DESCRIPTION:Live dabei: the splash & Jane and Friends\n\nAn den Plattentellern: DJ David & DJ Smile\n\nEintritt: 2€ / 4€   Studenten/Nichtstudenten\n\nVorverkauf ab 08.April zu den Öffnungszeiten im Büro des Studentenrates.\n0371/5312639 kultur@stura.tu-chemnitz.de
ORGANIZER:MAILTO:gram@hrz.tu-chemnitz.de
UID:2019@www.tu-chemnitz.de
CREATED:20020112T115800Z
DTSTAMP:20210802T202514Z
END:VEVENT
END:VCALENDAR
