BEGIN:VCALENDAR
VERSION:2.0
PRODID:TU Chemnitz
METHOD:PUBLISH
X-WR-CALNAME:Veranstaltungen der TU Chemnitz
X-WR-TIMEZONE:Europe/Berlin
BEGIN:VEVENT
CLASS:PUBLIC
DTSTART;TZID="Europe/Berlin":20181128T190000
DTEND;TZID="Europe/Berlin":20181128T203000
LOCATION:Str. der Nationen 62\, Chemnitz (Böttcher-Bau)
SUMMARY:Die Chemnitzer Lateinschule im Mittelalter (TU Chemnitz\, Professur für Geschichte Europas im Mittelalter und in der Frühen Neuzeit)
DESCRIPTION:Im Rahmen des Stadtjubiläums findet im Wintersemester 2018/19 eine Ringvorlesung „Chemnitz – Stadt der Vormoderne“ statt\, in der das vormoderne Chemnitz im Mittelpunkt steht. Es geht um die Geschichte der Stadt von ihrer Gründung bis ins 17. Jahrhundert.\nProf. Dr. Christoph Fasbender (TU Chemnitz)\nkeine Anmeldung erforderlich
ORGANIZER:MAILTO:antonia-sophia.podhraski@s2015.tu-chemnitz.de
UID:20185@www.tu-chemnitz.de
CREATED:20181111T164600Z
DTSTAMP:20210802T190428Z
END:VEVENT
END:VCALENDAR
