BEGIN:VCALENDAR
VERSION:2.0
PRODID:TU Chemnitz
METHOD:PUBLISH
X-WR-CALNAME:Veranstaltungen der TU Chemnitz
X-WR-TIMEZONE:Europe/Berlin
BEGIN:VEVENT
CLASS:PUBLIC
DTSTART;TZID="Europe/Berlin":20190108T190000
DTEND;TZID="Europe/Berlin":20190108T203000
LOCATION:Reichenhainer Str. 90\, Chemnitz (Zentr. Hörsaal- und Seminargebäude)
SUMMARY:Königtum und Krieg in der Stauferzeit (TU Chemnitz\, Philosophische Fakultät\, Professur Geschichte Europas im Mittelalter und in der Frühen Neuzeit; Juniorprofessur Antike und Europ)
DESCRIPTION:Teil einer Vortragsreihe im Rahmen des geschichtswissenschaftlichen Kolloquiums\nSebastian Schaarschmidt (Chemnitz)\nkeine Anmeldung erforderlich
ORGANIZER:MAILTO:antonia-sophia.podhraski@s2015.tu-chemnitz.de
UID:20181@www.tu-chemnitz.de
CREATED:20181111T162800Z
DTSTAMP:20210802T190234Z
END:VEVENT
END:VCALENDAR
