BEGIN:VCALENDAR
VERSION:2.0
PRODID:TU Chemnitz
METHOD:PUBLISH
X-WR-CALNAME:Veranstaltungen der TU Chemnitz
X-WR-TIMEZONE:Europe/Berlin
BEGIN:VEVENT
CLASS:PUBLIC
DTSTART;VALUE=DATE:20181129
DTEND;VALUE=DATE:20181130
LOCATION:Reichenhainer Str. 70\, Gebäude M
SUMMARY:Studientage China (Philosophische Fakultät\, Dekanat)
DESCRIPTION:Studierende aller Fachrichtungen werden über das Studium in China informiert. Darüber hinaus wird die intensive Vernetzung von Forschenden an der TU Chemnitz mit den Kolleginnen und Kollegen in China aufgezeigt. Auch ein Kulturprogramm wird geboten.\nanja.paessler@phil.tu-chemnitz.de
ORGANIZER:MAILTO:anja.paessler@phil.tu-chemnitz.de
UID:20152@www.tu-chemnitz.de
CREATED:20181101T132200Z
DTSTAMP:20210802T190427Z
END:VEVENT
END:VCALENDAR
