BEGIN:VCALENDAR
VERSION:2.0
PRODID:TU Chemnitz
METHOD:PUBLISH
X-WR-CALNAME:Veranstaltungen der TU Chemnitz
X-WR-TIMEZONE:Europe/Berlin
BEGIN:VEVENT
CLASS:PUBLIC
DTSTART;TZID="Europe/Berlin":20181107T130000
DTEND;TZID="Europe/Berlin":20181107T134500
LOCATION:Wilhelm-Raabe-Str. 43\, Chemnitz
SUMMARY:Institutskolloquium der Psychologie (Fakultät für Human- und Sozialwissenschaften\, Institut für Psychologie)
DESCRIPTION:Thema: Objektivität und Fairness – Zwei vernachlässigte Gütekriterien\nProf. Dr. Tuulia Ortner\nJunior-Prof. Dr. Frank Asbrock\, 31678
ORGANIZER:MAILTO:michael.meinig@psychologie.tu-chemnitz.de
UID:20145@www.tu-chemnitz.de
CREATED:20181030T092500Z
DTSTAMP:20210802T190423Z
END:VEVENT
END:VCALENDAR
