BEGIN:VCALENDAR
VERSION:2.0
PRODID:TU Chemnitz
METHOD:PUBLISH
X-WR-CALNAME:Veranstaltungen der TU Chemnitz
X-WR-TIMEZONE:Europe/Berlin
BEGIN:VEVENT
CLASS:PUBLIC
DTSTART;TZID="Europe/Berlin":20181112T140000
DTEND;TZID="Europe/Berlin":20181112T160000
LOCATION:Reichenhainer Str. 55\, Chemnitz (Mensa)
SUMMARY:Pfegestammtisch (TU Chemnitz)
DESCRIPTION:Wie handelt man im Widerspruchsverfahren und\nwelche Möglichkeiten bieten sich\, um Pflege zu\ngewährleisten?\nPflegesachverständige Sigrid Ziemke erläutert\nanhand von Fallbeispielen Verfahrenswege.\nBeispiele und Fragen sind willkommen.\nSigrid Ziemke\nIsabell Höfner\, familienservice@tu-chemnitz.de\, 0371/ 53130101
ORGANIZER:MAILTO:hoei@hrz.tu-chemnitz.de
UID:20139@www.tu-chemnitz.de
CREATED:20181029T092300Z
DTSTAMP:20210802T190430Z
END:VEVENT
END:VCALENDAR
