BEGIN:VCALENDAR
VERSION:2.0
PRODID:TU Chemnitz
METHOD:PUBLISH
X-WR-CALNAME:Veranstaltungen der TU Chemnitz
X-WR-TIMEZONE:Europe/Berlin
BEGIN:VEVENT
CLASS:PUBLIC
DTSTART;TZID="Europe/Berlin":20181112T171500
DTEND;TZID="Europe/Berlin":20181112T184500
LOCATION:Reichenhainer Str. 90\, Chemnitz (Zentr. Hörsaal- und Seminargebäude)
SUMMARY:Deutschlands Rolle in der Europäischen Union (Philosophische Fakultät\, Professur Europäische Regierungssysteme im Vergleich)
DESCRIPTION:Der Gastvortrag findet im Rahmen der Veranstaltungsreihe der Professur Europäische Regierungssysteme im Vergleich statt. Herr Prof. Dr. Funk (Hochschule Düsseldorf) erörtert Deutschlands Rolle in der EU.\nProf. Dr. Lothar Funk\nGabriele Wagner\, +49 371 531-27770\, gabriele.wagner@phil.tu-chemnitz.de
ORGANIZER:MAILTO:annemarie.schmitt@phil.tu-chemnitz.de
UID:20132@www.tu-chemnitz.de
CREATED:20181024T145500Z
DTSTAMP:20210802T190425Z
END:VEVENT
END:VCALENDAR
