BEGIN:VCALENDAR
VERSION:2.0
PRODID:TU Chemnitz
METHOD:PUBLISH
X-WR-CALNAME:Veranstaltungen der TU Chemnitz
X-WR-TIMEZONE:Europe/Berlin
BEGIN:VEVENT
CLASS:PUBLIC
DTSTART;TZID="Europe/Berlin":20181029T171500
DTEND;TZID="Europe/Berlin":20181029T184500
LOCATION:Reichenhainer Str. 70\, Chemnitz (Weinhold-Bau)
SUMMARY:Erasmus-Informationsveranstaltung für Politikwissenschaftler (Philosophische Fakultät\, Professur Europäische Regierungssysteme im Vergleich)
DESCRIPTION:Informationen zu Vorbereitung\, Partnerhochschulen\, finanzielle Förderung\, Anerkennung der Lehrveranstaltungen.\nWeitere Informationen zum Erasmus-Programm finden Sie unter: https://www.tu-chemnitz.de/phil/politik/eur/erasmus/erasmus_info.php\nOliver Sachs\, IUZ\nGabriele Wagner\, +49 371 531-27770\, professur-er@phil.tu-chemnitz.de
ORGANIZER:MAILTO:patrick.thost@s2014.tu-chemnitz.de
UID:20124@www.tu-chemnitz.de
CREATED:20181022T095200Z
DTSTAMP:20210802T190530Z
END:VEVENT
END:VCALENDAR
