BEGIN:VCALENDAR
VERSION:2.0
PRODID:TU Chemnitz
METHOD:PUBLISH
X-WR-CALNAME:Veranstaltungen der TU Chemnitz
X-WR-TIMEZONE:Europe/Berlin
BEGIN:VEVENT
CLASS:PUBLIC
DTSTART;TZID="Europe/Berlin":20181113T190000
DTEND;TZID="Europe/Berlin":20181113T213000
LOCATION:Das Tietz\, Veranstaltungssaal
SUMMARY:13. Literarisches Quintett (Neuere deutsche und vergleichende Literatur\, Universitätsbibliothek und FSR PhilFak)
DESCRIPTION:Chemnitz feiert Geburtstag\, das Literarische Quintett feiert mit!\nDie 13. Ausgabe der beliebten Veranstaltung steht noch einmal im Zeichen von Chemnitzer Autorinnen und Autoren. Buchheim\, Hensel\, Schneider\, Heym und Brinkmann - um ihre Bücher geht es.\nIna Potts\, E-Mail ina.potts@bibliothek.tu-chemnitz.de und Anja Päßler\, E-Mail anja.paessler@phil.tu-chemnitz.de
ORGANIZER:MAILTO:ina.potts@bibliothek.tu-chemnitz.de
UID:20112@www.tu-chemnitz.de
CREATED:20181018T134700Z
DTSTAMP:20210802T190425Z
END:VEVENT
END:VCALENDAR
