BEGIN:VCALENDAR
VERSION:2.0
PRODID:TU Chemnitz
METHOD:PUBLISH
X-WR-CALNAME:Veranstaltungen der TU Chemnitz
X-WR-TIMEZONE:Europe/Berlin
BEGIN:VEVENT
CLASS:PUBLIC
DTSTART;TZID="Europe/Berlin":20181030T093000
DTEND;TZID="Europe/Berlin":20181030T140000
LOCATION:eniPROD-Gebäude (Haus M)\, Raum 2/001
SUMMARY:Kolloquium des Handlungsfeldes IRD A „Halbzeuge und Preform-Technologien“\, MERGE (TU Chemnitz\, Stiftungsprofessur Textile Kunststoff- und Hybridverbunde)
DESCRIPTION:Das Handlungsfeld IRD A des Exzellenzclusters MERGE präsentiert den aktuellen Stand seiner Forschungsergebnisse mit ausgewählten Themen.\nProf. Dr.-Ing. habil. Daisy Julia Nestler \nSilke Grosch\, 0371/531-31411\, silke.grosch@mb.tu-chemnitz.de
ORGANIZER:MAILTO:ricarda.kuenzel-ripp@mb.tu-chemnitz.de
UID:20108@www.tu-chemnitz.de
CREATED:20181017T101600Z
DTSTAMP:20210802T190533Z
END:VEVENT
END:VCALENDAR
