BEGIN:VCALENDAR
VERSION:2.0
PRODID:TU Chemnitz
METHOD:PUBLISH
X-WR-CALNAME:Veranstaltungen der TU Chemnitz
X-WR-TIMEZONE:Europe/Berlin
BEGIN:VEVENT
CLASS:PUBLIC
DTSTART;TZID="Europe/Berlin":20020125T091500
DTEND;TZID="Europe/Berlin":20020125T104500
LOCATION:Wilhelm-Raabe-Str. 43\, Chemnitz
SUMMARY:Emotionen in Sportvereinen (Philosophische Fakultät\, Sportwissenschaft)
DESCRIPTION:Prof. Dr. Klaus Heinemann (Universität Hamburg)\nmanuela.trillitzsch@wirtschaft.tu-chemnitz.de
ORGANIZER:MAILTO:trma@hrz.tu-chemnitz.de
UID:2009@www.tu-chemnitz.de
CREATED:20020109T101200Z
DTSTAMP:20210802T202611Z
END:VEVENT
END:VCALENDAR
