BEGIN:VCALENDAR
VERSION:2.0
PRODID:TU Chemnitz
METHOD:PUBLISH
X-WR-CALNAME:Veranstaltungen der TU Chemnitz
X-WR-TIMEZONE:Europe/Berlin
BEGIN:VEVENT
CLASS:PUBLIC
DTSTART;TZID="Europe/Berlin":20181207T090000
DTEND;TZID="Europe/Berlin":20181207T170000
LOCATION:Str. der Nationen 62\, Chemnitz (Böttcher-Bau)
SUMMARY:Social-/Cross-Media im Beruf (Zentrum für Wissens- und Technologietransfer)
DESCRIPTION:Social Media im Beruf: Themen\, Kanäle\, Formate – zielgruppenspezifische Einsatzfelder von Social Media\, beispielhaft im Universitätsbereich.\nMatthias Fejes \ncareer-service@tu-chemnitz.de
ORGANIZER:MAILTO:maria.hauschild@s2016.tu-chemnitz.de
UID:20085@www.tu-chemnitz.de
CREATED:20181011T115900Z
DTSTAMP:20210802T190334Z
END:VEVENT
END:VCALENDAR
