BEGIN:VCALENDAR
VERSION:2.0
PRODID:TU Chemnitz
METHOD:PUBLISH
X-WR-CALNAME:Veranstaltungen der TU Chemnitz
X-WR-TIMEZONE:Europe/Berlin
BEGIN:VEVENT
CLASS:PUBLIC
DTSTART;TZID="Europe/Berlin":20181204T130000
DTEND;TZID="Europe/Berlin":20181204T170000
LOCATION:Pegasus-Center\, Chemnitz
SUMMARY:Splu Experts GmbH: Daniel Düsentrieb meets DIN (Zentrum für Wissens- und Technologietransfer)
DESCRIPTION:Teilnehmer mit Forscherdrang können im Workshop mit erfahrenen Ingenieuren gedanklich die Vorbereitung eines Projektes durchspielen und sich selbst als Entwicklungsingenieur in der Mechanischen Konstruktion wiederfinden.\ncareer-service@tu-chemnitz.de
ORGANIZER:MAILTO:maria.hauschild@s2016.tu-chemnitz.de
UID:20084@www.tu-chemnitz.de
CREATED:20181011T115500Z
DTSTAMP:20210802T190337Z
END:VEVENT
END:VCALENDAR
