BEGIN:VCALENDAR
VERSION:2.0
PRODID:TU Chemnitz
METHOD:PUBLISH
X-WR-CALNAME:Veranstaltungen der TU Chemnitz
X-WR-TIMEZONE:Europe/Berlin
BEGIN:VEVENT
CLASS:PUBLIC
DTSTART;TZID="Europe/Berlin":20181018T153000
DTEND;TZID="Europe/Berlin":20181018T170000
LOCATION:Pegasus-Center\, Chemnitz
SUMMARY:Das perfekte Bewerbungsfoto (Zentrum für Wissens- und Technologietransfer)
DESCRIPTION:Im Theorieteil könnt ihr euch über die aktuellen Bewerbungsfotostandards sowie sowie die perfekte Outfitwahl informieren. Am zweiten Workshoptag (25.10) findet das Fotoshooting statt und ihr erhaltet Hilfestellung bei der Auswahl des richtigen Fotos.\nMirko Mühlisch\ncareer-service@tu-chemnitz.de
ORGANIZER:MAILTO:maria.hauschild@s2016.tu-chemnitz.de
UID:20076@www.tu-chemnitz.de
CREATED:20181011T101300Z
DTSTAMP:20210802T190524Z
END:VEVENT
END:VCALENDAR
