BEGIN:VCALENDAR
VERSION:2.0
PRODID:TU Chemnitz
METHOD:PUBLISH
X-WR-CALNAME:Veranstaltungen der TU Chemnitz
X-WR-TIMEZONE:Europe/Berlin
BEGIN:VEVENT
CLASS:PUBLIC
DTSTART;TZID="Europe/Berlin":20181025T130000
DTEND;TZID="Europe/Berlin":20181025T161500
LOCATION:Reichenhainer Str. 70\, Chemnitz (Rühlmann-Bau)
SUMMARY:Effizientes Arbeiten mit MS Excel (Universitätsrechenzentrum)
DESCRIPTION:Wie nutze ich Formeln und Funktionen\, Formelüberwachung\, Zellbezüge\, bedingtes Zählen und Summieren\, Visualisierung mit Sparklines und Diagrammen etc.?\nS. Brose\nAnmeldung über OPAL: https://mytuc.org/hrby
ORGANIZER:MAILTO:antje.schreiber@hrz.tu-chemnitz.de
UID:20065@www.tu-chemnitz.de
CREATED:20181009T102600Z
DTSTAMP:20210802T190522Z
END:VEVENT
END:VCALENDAR
