BEGIN:VCALENDAR
VERSION:2.0
PRODID:TU Chemnitz
METHOD:PUBLISH
X-WR-CALNAME:Veranstaltungen der TU Chemnitz
X-WR-TIMEZONE:Europe/Berlin
BEGIN:VEVENT
CLASS:PUBLIC
DTSTART;TZID="Europe/Berlin":20181025T153000
DTEND;TZID="Europe/Berlin":20181025T180000
LOCATION:Reichenhainer Str. 70\, eniPROD-Gebäude (M-Bau)\, Raum M001 (C16.001)
SUMMARY:Big Data\, Maschinelles Lernen und Künstliche Intelligenz (TU Chemnitz\, Professur Werkzeugmaschinen und Umformtechnik)
DESCRIPTION:Beim "Arbeitsgespräch virtuelle Techniken" stehen Potentiale und Einsatzfälle von Big Data\, Maschinellem Lernen und Künstlicher Intelligenz im Fokus. Mehr Infos auf der Veranstaltungsseite\, eine Anmeldung ist erforderlich.\nMarko Rößler (TU Chemnitz)\, Martin Juhrisch (Symate GmbH)\, Dr. Anke Stoll (Fraunhofer IWU)\nEckhart Wittstock. +49 371 531 37667\, eckhart.wittstock@mb.tu-chemnitz.de
ORGANIZER:MAILTO:eckhart.wittstock@mb.tu-chemnitz.de
UID:20064@www.tu-chemnitz.de
CREATED:20181009T074700Z
DTSTAMP:20210802T190530Z
END:VEVENT
END:VCALENDAR
