BEGIN:VCALENDAR
VERSION:2.0
PRODID:TU Chemnitz
METHOD:PUBLISH
X-WR-CALNAME:Veranstaltungen der TU Chemnitz
X-WR-TIMEZONE:Europe/Berlin
BEGIN:VEVENT
CLASS:PUBLIC
DTSTART;TZID="Europe/Berlin":20190115T150000
DTEND;TZID="Europe/Berlin":20190115T170000
LOCATION:Grenzstrasse 28\, 01109 Dresden
SUMMARY:Exkursion: X-FAB Dresden GmbH & Co. KG (Zentrum für Wissens- und Technologietransfer)
DESCRIPTION:Erhalte exklusive Informationen aus erster Hand rund um die Arbeitsbereiche und Einstiegschancen im Unternehmen X-FAB.\ncareer-service@tu-chemnitz.de
ORGANIZER:MAILTO:maria.hauschild@s2016.tu-chemnitz.de
UID:20058@www.tu-chemnitz.de
CREATED:20181008T145400Z
DTSTAMP:20210802T190229Z
END:VEVENT
END:VCALENDAR
