BEGIN:VCALENDAR
VERSION:2.0
PRODID:TU Chemnitz
METHOD:PUBLISH
X-WR-CALNAME:Veranstaltungen der TU Chemnitz
X-WR-TIMEZONE:Europe/Berlin
BEGIN:VEVENT
CLASS:PUBLIC
DTSTART;TZID="Europe/Berlin":20020212T170000
DTEND;TZID="Europe/Berlin":20020212T190000
LOCATION:Str. der Nationen 62\, Chemnitz (Altes Heizhaus)
SUMMARY:Die Offene Werkstatt präsentiert: Regionalpolitik der EU - Europa und die Region Südwestsachsen (TU Chemnitz\, Promotionskolleg "Nachhaltige Regionalentwicklung in Ostdeutschland)
DESCRIPTION:In der zweiten Veranstaltung der Offenen Werkstatt des Promotionskollegs wird Frau Krehl über Ihre Arbeit als Mitglied im Europäischen Ausschuß für Regionalpolitik berichten.\nFrau Constanze Krehl\, Mitglied des Europaparlamentes und Vorsitzende der SPD Sachsen\nUlrike Hahn\, Jana Schröder\, Tel.: 0371 531-2331 oder -4796\, E-mail: promotionskolleg@gmx.de
ORGANIZER:MAILTO:jana.schroeder@phil.tu-chemnitz.de
UID:2004@www.tu-chemnitz.de
CREATED:20020107T200600Z
DTSTAMP:20210802T202601Z
END:VEVENT
END:VCALENDAR
