BEGIN:VCALENDAR
VERSION:2.0
PRODID:TU Chemnitz
METHOD:PUBLISH
X-WR-CALNAME:Veranstaltungen der TU Chemnitz
X-WR-TIMEZONE:Europe/Berlin
BEGIN:VEVENT
CLASS:PUBLIC
DTSTART;TZID="Europe/Berlin":20181114T160000
DTEND;TZID="Europe/Berlin":20181114T173000
LOCATION:Reichenhainer Str. 90\, Chemnitz (Zentr. Hörsaal- und Seminargebäude)
SUMMARY:Physikalisches Kolloquium (Fakultät für Naturwissenschaften\, Institut für Physik)
DESCRIPTION:Thema: "Charge transport in organic nanoscopic systems: \nFrom organic semiconductors to van-der-Waals materials"\nProf. Dr. Thomas Weitz (LMU München)\nProf. Dr. Dr. h. c. Dietrich R. T. Zahn (Tel: 33036\, Email: zahn@physik.tu-chemnitz.de)
ORGANIZER:MAILTO:annku@hrz.tu-chemnitz.de
UID:20031@www.tu-chemnitz.de
CREATED:20181008T120000Z
DTSTAMP:20210802T190422Z
END:VEVENT
END:VCALENDAR
