BEGIN:VCALENDAR
VERSION:2.0
PRODID:TU Chemnitz
METHOD:PUBLISH
X-WR-CALNAME:Veranstaltungen der TU Chemnitz
X-WR-TIMEZONE:Europe/Berlin
BEGIN:VEVENT
CLASS:PUBLIC
DTSTART;TZID="Europe/Berlin":20181022T153000
DTEND;TZID="Europe/Berlin":20181022T170000
LOCATION:Str. der Nationen 62\, Chemnitz (Böttcher-Bau)
SUMMARY:Informatik-Kolloquium (Fakultät für Informatik\, Medieninformatik)
DESCRIPTION:Gastvortrag zum Thema: "Cross-Cultural User-Experience Design"\nProf. Aaron Marcus\ndekanat@informatik.tu-chemnitz.de
ORGANIZER:MAILTO:heike.lasch@informatik.tu-chemnitz.de
UID:20024@www.tu-chemnitz.de
CREATED:20180928T092400Z
DTSTAMP:20210802T190529Z
END:VEVENT
END:VCALENDAR
