BEGIN:VCALENDAR
VERSION:2.0
PRODID:TU Chemnitz
METHOD:PUBLISH
X-WR-CALNAME:Veranstaltungen der TU Chemnitz
X-WR-TIMEZONE:Europe/Berlin
BEGIN:VEVENT
CLASS:PUBLIC
DTSTART;TZID="Europe/Berlin":20181220T173000
DTEND;TZID="Europe/Berlin":20181220T190000
LOCATION:Reichenhainer Str. 90\, Chemnitz (Zentr. Hörsaal- und Seminargebäude)
SUMMARY:Weihnachtsvorlesung Experimentalphysik (Fakultät für Naturwissenschaften\, Institut für Physik)
DESCRIPTION:Spannende Experimente aus allen Bereichen der Physik - dieses Jahr unter dem Motto: "Physik von früh bis spät"\nDr. Herbert Schletter\, Dr. Thomas Franke\nHerbert Schletter\, 0371/531-37987\, herbert.schletter@physik.tu-chemnitz.de
ORGANIZER:MAILTO:t.franke@physik.tu-chemnitz.de
UID:20023@www.tu-chemnitz.de
CREATED:20180927T151100Z
DTSTAMP:20210802T190340Z
END:VEVENT
END:VCALENDAR
