BEGIN:VCALENDAR
VERSION:2.0
PRODID:TU Chemnitz
METHOD:PUBLISH
X-WR-CALNAME:Veranstaltungen der TU Chemnitz
X-WR-TIMEZONE:Europe/Berlin
BEGIN:VEVENT
CLASS:PUBLIC
DTSTART;TZID="Europe/Berlin":20190116T153000
DTEND;TZID="Europe/Berlin":20190116T170000
LOCATION:Reichenhainer Str. 90\, Chemnitz (Zentr. Hörsaal- und Seminargebäude)
SUMMARY:Auslandssemester und -praktikum weltweit + Special "Südkorea" (Internationales Universitätszentrum)
DESCRIPTION:Für ein Semester oder Praktikum in das inner- oder außereuropäische Ausland! Alle Fragen dazu beantwortet das IUZ auf der heutigen Veranstaltung. Zusätzlich stellt Herr Prof. Menke aus Incheon/Südkorea die Incheon National University vor!\nNadja Hüller (IUZ)\, Oliver Sachs (IUZ)\nOliver Sachs\, 0371 531 37972
ORGANIZER:MAILTO:oliver.sachs@iuz.tu-chemnitz.de
UID:20015@www.tu-chemnitz.de
CREATED:20180926T104000Z
DTSTAMP:20210802T190233Z
END:VEVENT
END:VCALENDAR
