BEGIN:VCALENDAR
VERSION:2.0
PRODID:TU Chemnitz
METHOD:PUBLISH
X-WR-CALNAME:Veranstaltungen der TU Chemnitz
X-WR-TIMEZONE:Europe/Berlin
BEGIN:VEVENT
CLASS:PUBLIC
DTSTART;TZID="Europe/Berlin":20181105T140000
DTEND;TZID="Europe/Berlin":20181105T170000
LOCATION:
SUMMARY:Auftrags­steuerung in Echtzeit – leicht gemacht für KMU! (TU Chemnitz)
DESCRIPTION:Basisworkshop des Mittelstand 4.0-Kompetenzzentrums Chemnitz\nMittelstand 4.0-Kompetenzzentrum Chemnitz\nRalf Rauer Tel.: +49 (0) 371 / 243512513 E-Mail: ralf.rauer@betrieb-machen.de
ORGANIZER:MAILTO:madeleine.dietrich@mb.tu-chemnitz.de
UID:20007@www.tu-chemnitz.de
CREATED:20180920T125500Z
DTSTAMP:20210802T190431Z
END:VEVENT
END:VCALENDAR
