BEGIN:VCALENDAR
VERSION:2.0
PRODID:TU Chemnitz
METHOD:PUBLISH
X-WR-CALNAME:Veranstaltungen der TU Chemnitz
X-WR-TIMEZONE:Europe/Berlin
BEGIN:VEVENT
CLASS:PUBLIC
DTSTART;TZID="Europe/Berlin":20181011T170000
DTEND;TZID="Europe/Berlin":20181011T200000
LOCATION:Erfenschlager Str. 73\, Chemnitz
SUMMARY:Arbeit 4.0: Flexible Arbeitszeit – flexibler Arbeitsort (TU Chemnitz)
DESCRIPTION:Thementag des Mittelstand 4.0-Kompetenzzentrums Chemnitz\nMittelstand 4.0-Kompetenzzentrum Chemnitz\nDr. Michael Wächter Tel.: +49 (0) 371 / 531 32423 E-Mail: michael.waechter@betrieb-machen.de
ORGANIZER:MAILTO:madeleine.dietrich@mb.tu-chemnitz.de
UID:19998@www.tu-chemnitz.de
CREATED:20180919T124000Z
DTSTAMP:20210802T190532Z
END:VEVENT
END:VCALENDAR
