BEGIN:VCALENDAR
VERSION:2.0
PRODID:TU Chemnitz
METHOD:PUBLISH
X-WR-CALNAME:Veranstaltungen der TU Chemnitz
X-WR-TIMEZONE:Europe/Berlin
BEGIN:VEVENT
CLASS:PUBLIC
DTSTART;TZID="Europe/Berlin":20190306T100000
DTEND;TZID="Europe/Berlin":20190307T170000
LOCATION:Str. der Nationen 62\, Chemnitz (Böttcher-Bau)
SUMMARY:Academic Writing in English (Zentrum für den wissenschaftlichen Nachwuchs)
DESCRIPTION:This Workshop is designed for humanities scholars. The lecturer provides helpful information about developing individual strategies for writing & publishing research articles & theses. A “Toolbox” for academic writing & useful expressions are provided.\nLorraine Mannion\nhttps://www.tu-chemnitz.de/zfwn/weiterbildungsangebote/index.php
ORGANIZER:MAILTO:nadine.mueller@zfwn.tu-chemnitz.de
UID:19993@www.tu-chemnitz.de
CREATED:20180919T112400Z
DTSTAMP:20210802T185837Z
END:VEVENT
END:VCALENDAR
