BEGIN:VCALENDAR
VERSION:2.0
PRODID:TU Chemnitz
METHOD:PUBLISH
X-WR-CALNAME:Veranstaltungen der TU Chemnitz
X-WR-TIMEZONE:Europe/Berlin
BEGIN:VEVENT
CLASS:PUBLIC
DTSTART;TZID="Europe/Berlin":20190116T090000
DTEND;TZID="Europe/Berlin":20190117T170000
LOCATION:Str. der Nationen 62\, Chemnitz (Böttcher-Bau)
SUMMARY:Enhance Your Visibility - Creating and Developing Your Professional Profile (Zentrum für den wissenschaftlichen Nachwuchs)
DESCRIPTION:Participants become aware of their professional competencies & personal strength & learn how to present themselves in a memorable & target-oriented manner. They reflect their professional visibility & discover ways to enhance their on-& offline visibility\nDr. Stephanie Rohac\nhttps://www.tu-chemnitz.de/zfwn/weiterbildungsangebote/index.php
ORGANIZER:MAILTO:nadine.mueller@zfwn.tu-chemnitz.de
UID:19989@www.tu-chemnitz.de
CREATED:20180919T103000Z
DTSTAMP:20210802T190229Z
END:VEVENT
END:VCALENDAR
