BEGIN:VCALENDAR
VERSION:2.0
PRODID:TU Chemnitz
METHOD:PUBLISH
X-WR-CALNAME:Veranstaltungen der TU Chemnitz
X-WR-TIMEZONE:Europe/Berlin
BEGIN:VEVENT
CLASS:PUBLIC
DTSTART;TZID="Europe/Berlin":20020104T213000
DTEND;TZID="Europe/Berlin":20020105T030000
LOCATION:Reichenhainer Str. 37 Keller
SUMMARY:Salsa-Party (PEB-Studentenkeller)
DESCRIPTION:Eintritt: 1 EURO\n21.30-22.30 Uhr Salsa-Kurs incl.\,\ndanach coole Party mit Salsa und Cocktails.
ORGANIZER:MAILTO:cobr@hrz.tu-chemnitz.de
UID:1998@www.tu-chemnitz.de
CREATED:20020103T230600Z
DTSTAMP:20210802T202617Z
END:VEVENT
END:VCALENDAR
