BEGIN:VCALENDAR
VERSION:2.0
PRODID:TU Chemnitz
METHOD:PUBLISH
X-WR-CALNAME:Veranstaltungen der TU Chemnitz
X-WR-TIMEZONE:Europe/Berlin
BEGIN:VEVENT
CLASS:PUBLIC
DTSTART;TZID="Europe/Berlin":20181024T090000
DTEND;TZID="Europe/Berlin":20181027T160000
LOCATION:Pegasus-Center\, Chemnitz
SUMMARY:Kick-off zum 15. Durchgang des MBA Eventmarketing (Zentrum für Wissens- und Technologietransfer\, TUCed)
DESCRIPTION:Am 24.10.2018 begrüßen wir die neuen Teilnehmer im MBA-Studiengang Eventmarketing. Aktuell gibt es noch wenige Restplätze! Falls Sie sich noch nicht für einen Studienplatz beworben haben\, können Sie dies gern noch kurzfristig tun!\nUniv.-Prof. Dr. Cornelia Zanger\nkontakt@tuced.de
ORGANIZER:MAILTO:annekatrin.bassler@tuced.tu-chemnitz.de
UID:19978@www.tu-chemnitz.de
CREATED:20180914T153800Z
DTSTAMP:20210802T190524Z
END:VEVENT
END:VCALENDAR
