BEGIN:VCALENDAR
VERSION:2.0
PRODID:TU Chemnitz
METHOD:PUBLISH
X-WR-CALNAME:Veranstaltungen der TU Chemnitz
X-WR-TIMEZONE:Europe/Berlin
BEGIN:VEVENT
CLASS:PUBLIC
DTSTART;TZID="Europe/Berlin":20180928T093000
DTEND;TZID="Europe/Berlin":20180928T103000
LOCATION:Reichenhainer Str. 70\, Chemnitz (Rühlmann-Bau)
SUMMARY:LiT.Shortcut: Urheberrecht in der Lehre. (Fakultät für Maschinenbau\, Dekanat)
DESCRIPTION:Das Urheberrecht ist in der Arbeit als Lehrender oder Prüfender zentral. Nun schützt Unwissenheit nicht vor Strafe. Dieser Vortrag gibt einen Einblick in die aktuellen Dos and Don´ts sowie die Handhabung von Quellen und fremden Materialien in der Lehre.\nDr.-Ing. Rico Drehmann\nhttps://www.tu-chemnitz.de/qpl/lit/anmeldung/index.html?idkurs=10
ORGANIZER:MAILTO:ulrike.rada@verwaltung.tu-chemnitz.de
UID:19962@www.tu-chemnitz.de
CREATED:20180907T170500Z
DTSTAMP:20210802T190634Z
END:VEVENT
END:VCALENDAR
