BEGIN:VCALENDAR
VERSION:2.0
PRODID:TU Chemnitz
METHOD:PUBLISH
X-WR-CALNAME:Veranstaltungen der TU Chemnitz
X-WR-TIMEZONE:Europe/Berlin
BEGIN:VEVENT
CLASS:PUBLIC
DTSTART;TZID="Europe/Berlin":20180918T093000
DTEND;TZID="Europe/Berlin":20180918T183000
LOCATION:Hartmannfabrik\, Fabrikstraße 11\, 09111 Chemnitz
SUMMARY:4. Sächsischer IT Summit und C-Town 360° in Chemnitz (Fakultät für Informatik\, zentral)
DESCRIPTION:Zum 4. Sächsischen IT Summit diskutieren Experten\, Unterstützer und Partner der Branche aktuelle und zukünftige Entwicklungen. C-Town 360° ist eine jährlich stattfindende Convention\, die einen 360°-Rundumblick in die Entwicklungsbereiche der Stadt gibt.\nhttp://c-town360.com/
ORGANIZER:MAILTO:matthias.pohl@informatik.tu-chemnitz.de
UID:19961@www.tu-chemnitz.de
CREATED:20180906T141200Z
DTSTAMP:20210802T190637Z
END:VEVENT
END:VCALENDAR
