BEGIN:VCALENDAR
VERSION:2.0
PRODID:TU Chemnitz
METHOD:PUBLISH
X-WR-CALNAME:Veranstaltungen der TU Chemnitz
X-WR-TIMEZONE:Europe/Berlin
BEGIN:VEVENT
CLASS:PUBLIC
DTSTART;TZID="Europe/Berlin":20181010T160000
DTEND;TZID="Europe/Berlin":20181010T173000
LOCATION:Reichenhainer Str. 90\, Chemnitz (Zentr. Hörsaal- und Seminargebäude)
SUMMARY:Physikalisches Kolloquium (Fakultät für Naturwissenschaften\, Institut für Physik)
DESCRIPTION:Thema: "The Chiral Induced Spin Selectivity Effect (CISS)"\nProf. Dr. Yossi Paltiel (Hebrew University Jerusalem\, Israel)\nProf. Dr. Christoph Tegenkamp (Tel: 0371 531 33103)
ORGANIZER:MAILTO:annku@hrz.tu-chemnitz.de
UID:19956@www.tu-chemnitz.de
CREATED:20180829T101800Z
DTSTAMP:20210802T190521Z
END:VEVENT
END:VCALENDAR
