BEGIN:VCALENDAR
VERSION:2.0
PRODID:TU Chemnitz
METHOD:PUBLISH
X-WR-CALNAME:Veranstaltungen der TU Chemnitz
X-WR-TIMEZONE:Europe/Berlin
BEGIN:VEVENT
CLASS:PUBLIC
DTSTART;VALUE=DATE:20180925
DTEND;VALUE=DATE:20180926
LOCATION:Reichenhainer Str. 90\, Chemnitz (Zentr. Hörsaal- und Seminargebäude)
SUMMARY:Advanced School on Impedance Spectroscopy (ASIS) (TU Chemnitz\, Fakultät für Elektrotechnik und Informationstechnik\, Mess- und Sensortechnik)
DESCRIPTION:ASIS vermittelt ein besseres und umfassenderes Verständnis der Methode der Impedanzspektroskopie. Es bietet eine Reihe von Tutorials\, die von internationalen Experten gehalten werden\, die die Methode aus verschiedenen Blickwinkeln erläutern.\nProf. Olfa Kanoun
ORGANIZER:MAILTO:olfa.kanoun@etit.tu-chemnitz.de
UID:19954@www.tu-chemnitz.de
CREATED:20180829T085200Z
DTSTAMP:20210802T190630Z
END:VEVENT
END:VCALENDAR
