BEGIN:VCALENDAR
VERSION:2.0
PRODID:TU Chemnitz
METHOD:PUBLISH
X-WR-CALNAME:Veranstaltungen der TU Chemnitz
X-WR-TIMEZONE:Europe/Berlin
BEGIN:VEVENT
CLASS:PUBLIC
DTSTART;TZID="Europe/Berlin":20180921T100000
DTEND;TZID="Europe/Berlin":20180921T113000
LOCATION:Reichenhainer Str. 70\, Chemnitz (Rühlmann-Bau)
SUMMARY:Öffentliche Prüfung im Promotionsverfahren (Fakultät für Mathematik)
DESCRIPTION:Thema: Optimal Control of Thermoviscoplasticity\nFrau Dipl.-Math. Ailyn Stötzner\nDie Dissertation liegt im Dekanat zur Einsichtnahme aus.
ORGANIZER:MAILTO:margit.matt@mathematik.tu-chemnitz.de
UID:19939@www.tu-chemnitz.de
CREATED:20180817T104100Z
DTSTAMP:20210802T190631Z
END:VEVENT
END:VCALENDAR
