BEGIN:VCALENDAR
VERSION:2.0
PRODID:TU Chemnitz
METHOD:PUBLISH
X-WR-CALNAME:Veranstaltungen der TU Chemnitz
X-WR-TIMEZONE:Europe/Berlin
BEGIN:VEVENT
CLASS:PUBLIC
DTSTART;TZID="Europe/Berlin":20180926T130000
DTEND;TZID="Europe/Berlin":20180926T161500
LOCATION:Reichenhainer Str. 70\, Chemnitz (Rühlmann-Bau)
SUMMARY:Einführung in die Lernplattform OPAL für Dozenten und Lehrbeauftragte (Universitätsrechenzentrum)
DESCRIPTION:Wiederholung der Einführungsveranstaltung vom 19. September 2018 aufgrund hoher Nachfrage\nF. Richter\nAnmeldung über OPAL: https://mytuc.org/hgwb
ORGANIZER:MAILTO:antje.schreiber@hrz.tu-chemnitz.de
UID:19933@www.tu-chemnitz.de
CREATED:20180815T164700Z
DTSTAMP:20210802T190635Z
END:VEVENT
END:VCALENDAR
