BEGIN:VCALENDAR
VERSION:2.0
PRODID:TU Chemnitz
METHOD:PUBLISH
X-WR-CALNAME:Veranstaltungen der TU Chemnitz
X-WR-TIMEZONE:Europe/Berlin
BEGIN:VEVENT
CLASS:PUBLIC
DTSTART;TZID="Europe/Berlin":20180830T170000
DTEND;TZID="Europe/Berlin":20180830T183000
LOCATION:Reichenhainer Str. 55\, Chemnitz (Mensa)
SUMMARY:Demokratie live. Regt euch auf - aber so richtig! (Podiumsdiskussion) (Philosophische Fakultät\, Professur Politische Systeme)
DESCRIPTION:Theaterstück\, Podiumsdiskussion\, lockere Frage- und Gesprächsrunde für ein gelungenes Zusammenleben und für ein faires Miteinander auf kommunaler Ebene.\nMehr Infos unter:\nhttp://875-jahre-chemnitz.de/web/details.php?id=5b44a23dc6baed760c2bb7b4\nStadtteilmanager T. Rosner\, R. Bzdok\, K. Günther; Polizeioberrat K. Kunze (Chemnitz); Politikwissenschaftler Dr. S. Liebold\nkeine Anmeldung erforderlich
ORGANIZER:MAILTO:daniel.rennert@phil.tu-chemnitz.de
UID:19922@www.tu-chemnitz.de
CREATED:20180801T150700Z
DTSTAMP:20210802T190734Z
END:VEVENT
END:VCALENDAR
