BEGIN:VCALENDAR
VERSION:2.0
PRODID:TU Chemnitz
METHOD:PUBLISH
X-WR-CALNAME:Veranstaltungen der TU Chemnitz
X-WR-TIMEZONE:Europe/Berlin
BEGIN:VEVENT
CLASS:PUBLIC
DTSTART;VALUE=DATE:20181004
DTEND;VALUE=DATE:20181004
LOCATION:Str. der Nationen 62\, Chemnitz (Böttcher-Bau)
SUMMARY:Einführungsveranstaltung Lehramt an Grundschulen (Zentrum für Lehrerbildung)
DESCRIPTION:An diesem Tag erhalten neue Studierende zwischen 9:00 und 14:30 Uhr alle wichtigen Informationen zum Studiengang. Die konkreten Zeiten finden sich hier: https://www.tu-chemnitz.de/zlb/#aktuelles.\nzlb@tu-chemnitz.de
ORGANIZER:MAILTO:sabrina.theiler@zlb.tu-chemnitz.de
UID:19910@www.tu-chemnitz.de
CREATED:20180725T092500Z
DTSTAMP:20210802T190526Z
END:VEVENT
END:VCALENDAR
