BEGIN:VCALENDAR
VERSION:2.0
PRODID:TU Chemnitz
METHOD:PUBLISH
X-WR-CALNAME:Veranstaltungen der TU Chemnitz
X-WR-TIMEZONE:Europe/Berlin
BEGIN:VEVENT
CLASS:PUBLIC
DTSTART;VALUE=DATE:20180917
DTEND;VALUE=DATE:20180928
LOCATION:Reichenhainer Str. 70\, Chemnitz (Weinhold-Bau)
SUMMARY:Vorbereitungskurs Naturwissenschaften (Fakultät für Naturwissenschaften\, TU4U)
DESCRIPTION:Der Brückenkurs richtet sich an alle Studienanfänger/-innen an der Fakultät für Naturwissenschaften zur Wiederholung und Auffrischung des Grundlagenwissens Mathematik/Physik aus dem Abitur. Kurs: 17.09.-28.09.2018 (jeweils von 9:00-14:00 Uhr)\nMartin Streiter\, +49 371 531-33574\, martin.streiter@physik.tu-chemnitz.de
ORGANIZER:MAILTO:susann.kappler@s2011.tu-chemnitz.de
UID:19885@www.tu-chemnitz.de
CREATED:20180705T150200Z
DTSTAMP:20210802T190638Z
END:VEVENT
END:VCALENDAR
