BEGIN:VCALENDAR
VERSION:2.0
PRODID:TU Chemnitz
METHOD:PUBLISH
X-WR-CALNAME:Veranstaltungen der TU Chemnitz
X-WR-TIMEZONE:Europe/Berlin
BEGIN:VEVENT
CLASS:PUBLIC
DTSTART;TZID="Europe/Berlin":20180710T134500
DTEND;TZID="Europe/Berlin":20180710T151500
LOCATION:Thüringer Weg 9\, Chemnitz
SUMMARY:Oskar Lafontaine. Eine politische Biographie (TU Chemnitz\, Politische Theorie und Ideengeschichte)
DESCRIPTION:Fabian Braun\, Politikwissenschaftler und Partner in einer Berliner Kommunikationsagentur\, stellt Ihnen den ehemaligen Bundesfinanzminister und Vorsitzenden der Parteien SPD und Die Linke Oskar Lafontaine (*1943) vor.\nFabian Braun\nEllen Thümmler\, ellen.thuemmler@phil.tu-chemnitz.de
ORGANIZER:MAILTO:ellen.thuemmler@phil.tu-chemnitz.de
UID:19884@www.tu-chemnitz.de
CREATED:20180705T114200Z
DTSTAMP:20210802T190753Z
END:VEVENT
END:VCALENDAR
