BEGIN:VCALENDAR
VERSION:2.0
PRODID:TU Chemnitz
METHOD:PUBLISH
X-WR-CALNAME:Veranstaltungen der TU Chemnitz
X-WR-TIMEZONE:Europe/Berlin
BEGIN:VEVENT
CLASS:PUBLIC
DTSTART;TZID="Europe/Berlin":20180713T090000
DTEND;TZID="Europe/Berlin":20180713T170000
LOCATION:Pegasus-Center\, Chemnitz
SUMMARY:Werkzeug Stimme (Career Service)
DESCRIPTION:Die Stimme ist unser tagtäglicher Begleiter. Immer mehr Berufsbilder erfordern eine gesunde und ausdauernde Stimmfunktion\, damit Kommunikation störungsfrei und klangvoll stattfinden kann. Die Teilnehmer lernen ihre Stimme ganz bewusst kennen und schätzen.\nSophie Böhmchen\nCareer Service\, +49 371 531-19 930\, career-service@tu-chemnitz.de
ORGANIZER:MAILTO:anja.krumbiegel@wirtschaft.tu-chemnitz.de
UID:19880@www.tu-chemnitz.de
CREATED:20180704T145700Z
DTSTAMP:20210802T190751Z
END:VEVENT
END:VCALENDAR
