BEGIN:VCALENDAR
VERSION:2.0
PRODID:TU Chemnitz
METHOD:PUBLISH
X-WR-CALNAME:Veranstaltungen der TU Chemnitz
X-WR-TIMEZONE:Europe/Berlin
BEGIN:VEVENT
CLASS:PUBLIC
DTSTART;TZID="Europe/Berlin":20181204T130000
DTEND;TZID="Europe/Berlin":20181204T133000
LOCATION:Foyer\, DAS tietz\, Moritzstraße 20\, 09111 Chemnitz
SUMMARY:Mit Licht geschossen | 53. Bildpräsentation (Philosophische Fakultät\, Romanische Kulturwissenschaft)
DESCRIPTION:Photographien aus der Zeit des 1. Weltkrieges großformatig präsentiert. Jeden Monat von 2014-2018 ein neues Bild. Heute Enthüllung der 53. Photographie. Im Projekt 14-18 WAR WAS Geteilte Erinnerungen in Kooperation mit dem Schloßbergmuseum Chemnitz.\nProf. Ulrike Brummert\, docteur d´Etat\, Uwe Fiedler\nkeine Anmeldung erforderlich
ORGANIZER:MAILTO:manja.berte@phil.tu-chemnitz.de
UID:19876@www.tu-chemnitz.de
CREATED:20180704T105500Z
DTSTAMP:20210802T190336Z
END:VEVENT
END:VCALENDAR
