BEGIN:VCALENDAR
VERSION:2.0
PRODID:TU Chemnitz
METHOD:PUBLISH
X-WR-CALNAME:Veranstaltungen der TU Chemnitz
X-WR-TIMEZONE:Europe/Berlin
BEGIN:VEVENT
CLASS:PUBLIC
DTSTART;TZID="Europe/Berlin":20180711T173000
DTEND;VALUE=DATE:20190120
LOCATION:Str. der Nationen 12\, Chemnitz (Rawema-Gebäude)
SUMMARY:GeschmacksSache | Eine Ausstellung der Kunstdidaktik (Zentrum für Lehrerbildung\, Juniorprofessur Grundschuldidaktik Kunst)
DESCRIPTION:Das Team der Juniorprofessur Grundschuldidaktik Kunst und die Studierenden laden  herzlich ein zur Vernissage der Kunstdidaktik unter neuem Titel. Im Mittelpunkt stehen diesmal die Fotoarbeiten des 4. Fachsemesters zum Arbeitstitel "Food Design".\nCornelia.Herdler-Hennig@zlb.tu-chemnitz.de
ORGANIZER:MAILTO:cornelia.herdler-hennig@zlb.tu-chemnitz.de
UID:19871@www.tu-chemnitz.de
CREATED:20180702T151600Z
DTSTAMP:20210802T190756Z
END:VEVENT
END:VCALENDAR
