BEGIN:VCALENDAR
VERSION:2.0
PRODID:TU Chemnitz
METHOD:PUBLISH
X-WR-CALNAME:Veranstaltungen der TU Chemnitz
X-WR-TIMEZONE:Europe/Berlin
BEGIN:VEVENT
CLASS:PUBLIC
DTSTART;TZID="Europe/Berlin":20011219T180000
DTEND;TZID="Europe/Berlin":20011219T193000
LOCATION:Str. der Nationen 62\, Chemnitz (Böttcher-Bau)
SUMMARY:TeX-Stammtisch: Musik setzen mit LaTeX (Universitätsrechenzentrum)
DESCRIPTION:<b>Kurz vor Weihnachten was besonderes:</b><br>\nWer den Referenten kennt\, weiß\, dass das \nein fundierter\, aber auch lustiger Vortrag wird.\nDr. Jörg Anders\, Fakultät für Informatik\, TU Chemnitz\nralf.koenig@s1998.tu-chemnitz.de
ORGANIZER:MAILTO:ralk@hrz.tu-chemnitz.de
UID:1985@www.tu-chemnitz.de
CREATED:20011213T021500Z
DTSTAMP:20210802T202623Z
END:VEVENT
END:VCALENDAR
