BEGIN:VCALENDAR
VERSION:2.0
PRODID:TU Chemnitz
METHOD:PUBLISH
X-WR-CALNAME:Veranstaltungen der TU Chemnitz
X-WR-TIMEZONE:Europe/Berlin
BEGIN:VEVENT
CLASS:PUBLIC
DTSTART;TZID="Europe/Berlin":20180705T134500
DTEND;TZID="Europe/Berlin":20180705T151500
LOCATION:Str. der Nationen 62\, Chemnitz (Böttcher-Bau)
SUMMARY:Moderne Mathematik\, New Math\, „Mengenlehre“ – Ein alternatives Konzept für den mathematischen Anfangsunterricht (Zentrum für Lehrerbildung\, GSD Mathematik)
DESCRIPTION:Mit der Reform des Mathematikunterrichts ab 1972 änderte sich der Anfangsunterrichts in der BRD z.T. radikal. Im Vortrag sollen sowohl typische Elemente davon vorgestellt als auch ein Blick auf alternative Konzepte aus der Zeit geworfen werden.\nTanja Hamann\nRonny Sitter\, ronny.sitter@zlb.tu-chemnitz.de\, 0371 531 304 79
ORGANIZER:MAILTO:ronny.sitter@zlb.tu-chemnitz.de
UID:19843@www.tu-chemnitz.de
CREATED:20180623T164600Z
DTSTAMP:20210802T190749Z
END:VEVENT
END:VCALENDAR
