BEGIN:VCALENDAR
VERSION:2.0
PRODID:TU Chemnitz
METHOD:PUBLISH
X-WR-CALNAME:Veranstaltungen der TU Chemnitz
X-WR-TIMEZONE:Europe/Berlin
BEGIN:VEVENT
CLASS:PUBLIC
DTSTART;TZID="Europe/Berlin":20180628T170000
DTEND;TZID="Europe/Berlin":20180628T190000
LOCATION:„Start up“-Gründerzentrum am Smart Systems Campus\, Technologie-Campus 1\, 09126 Chemnitz
SUMMARY:Gesundheitsvorsorge ist wichtig und so sexy wie Fußpilz (Zentrum für Wissens- und Technologietransfer\, SAXEED)
DESCRIPTION:Der SAXEED Informations-Abend dreht sich um ein Thema\, welches im Gründungsprozess nicht besonders viel Aufmerksamkeit erhält.  Der Vortrag soll ganz im Zeichen der Gesundheitsvorsorge stehen und einen Umsetzungsplan für ein GESUNDES Start-up liefern\nRené Edelmann und Pierre Jacobasch\njette.petzold@saxeed.net
ORGANIZER:MAILTO:jette.petzold@saxeed.net
UID:19841@www.tu-chemnitz.de
CREATED:20180622T105400Z
DTSTAMP:20210802T190644Z
END:VEVENT
END:VCALENDAR
