BEGIN:VCALENDAR
VERSION:2.0
PRODID:TU Chemnitz
METHOD:PUBLISH
X-WR-CALNAME:Veranstaltungen der TU Chemnitz
X-WR-TIMEZONE:Europe/Berlin
BEGIN:VEVENT
CLASS:PUBLIC
DTSTART;VALUE=DATE:20190316
DTEND;VALUE=DATE:20190317
LOCATION:Reichenhainer Str. 90\, Chemnitz (Zentr. Hörsaal- und Seminargebäude)
SUMMARY:Chemnitzer Linux-Tage – „Natürlich intelligent.“ (IN-Chemnitz e.V.\, Fakultät für Informatik\, Universitätsrechenzentrum)
DESCRIPTION:Zwei Tage lang erwarten den Besucher Vorträge\, Workshops und Projektkontakte rund um Linux und Open Source. Das Juniorprogramm bietet Mitmachpotential für die jungen Besucher ab 10.\ninfo@linux-tage.de
ORGANIZER:MAILTO:antje.schreiber@hrz.tu-chemnitz.de
UID:19840@www.tu-chemnitz.de
CREATED:20180621T170000Z
DTSTAMP:20210802T185840Z
END:VEVENT
END:VCALENDAR
