BEGIN:VCALENDAR
VERSION:2.0
PRODID:TU Chemnitz
METHOD:PUBLISH
X-WR-CALNAME:Veranstaltungen der TU Chemnitz
X-WR-TIMEZONE:Europe/Berlin
BEGIN:VEVENT
CLASS:PUBLIC
DTSTART;TZID="Europe/Berlin":20180625T093000
DTEND;TZID="Europe/Berlin":20180625T150000
LOCATION:Str. der Nationen 62\, Chemnitz (Böttcher-Bau)
SUMMARY:XLIII. Chemnitzer Chemiewettbewerb "Julius Adolph Stöckhardt" (Fakultät für Naturwissenschaften\, Institut für Chemie)
DESCRIPTION:Das Thema des Wettbewerbs lautet: Aluminium\, Kupfer und Wolfram als Elementsubstanzen\, in Gemischen und Verbindungen.\nFachvortag: Eine Reise durch die Organische Chemie\nDr. Andreas Ihle\nUniv.-Prof. Dr. Klaus Stöwe\, 0371 / 531 - 35214\, klaus.stoewe@chemie.tu-chemnitz.de
ORGANIZER:MAILTO:uwe.schauer@chemie.tu-chemnitz.de
UID:19820@www.tu-chemnitz.de
CREATED:20180614T103500Z
DTSTAMP:20210802T190657Z
END:VEVENT
END:VCALENDAR
