BEGIN:VCALENDAR
VERSION:2.0
PRODID:TU Chemnitz
METHOD:PUBLISH
X-WR-CALNAME:Veranstaltungen der TU Chemnitz
X-WR-TIMEZONE:Europe/Berlin
BEGIN:VEVENT
CLASS:PUBLIC
DTSTART;TZID="Europe/Berlin":20180619T134500
DTEND;TZID="Europe/Berlin":20180619T151500
LOCATION:Thüringer Weg 9\, Chemnitz
SUMMARY:Walter Dirks (1901-1991) in den Kontexten der Bundesrepublik (TU Chemnitz\, Politische Theorie und Ideengeschichte)
DESCRIPTION:Im Mittelpunkt steht der Publizist und Journalist Walter Dirks\, einer der prominentesten kritischen Intellektuellen der Bundesrepublik. Als nonkonformistischer katholischer Mittler kommentierte er das Verhältnis von Christentum und Sozialismus.\nGabriel Rolfes (Bonn)\nAnja Liebe\, anja.liebe@phil.tu-chemnitz.de
ORGANIZER:MAILTO:ellen.thuemmler@phil.tu-chemnitz.de
UID:19812@www.tu-chemnitz.de
CREATED:20180611T100000Z
DTSTAMP:20210802T190652Z
END:VEVENT
END:VCALENDAR
