BEGIN:VCALENDAR
VERSION:2.0
PRODID:TU Chemnitz
METHOD:PUBLISH
X-WR-CALNAME:Veranstaltungen der TU Chemnitz
X-WR-TIMEZONE:Europe/Berlin
BEGIN:VEVENT
CLASS:PUBLIC
DTSTART;TZID="Europe/Berlin":20180609T200000
DTEND;TZID="Europe/Berlin":20180609T220000
LOCATION:Str. der Nationen 62\, Chemnitz (Altes Heizhaus)
SUMMARY:Der Fall Rautermann  (Unicef Hochschulgruppe TU Chemnitz)
DESCRIPTION:Jedes Kind hat ein Recht auf Schutz vor sexueller Ausbeutung. Doch was\, wenn das Rechtssystem für den emotionalen Seelenfrieden der Opfer nicht reicht? Wenn Schuld zu einer Frage des Empfindens und nicht zu einer Frage der Beweislage wird?\ninfo@hochschulgruppe-chemnitz.unicef.de
ORGANIZER:MAILTO:hanan.fischer@s2013.tu-chemnitz.de
UID:19783@www.tu-chemnitz.de
CREATED:20180531T120300Z
DTSTAMP:20210802T190649Z
END:VEVENT
END:VCALENDAR
