BEGIN:VCALENDAR
VERSION:2.0
PRODID:TU Chemnitz
METHOD:PUBLISH
X-WR-CALNAME:Veranstaltungen der TU Chemnitz
X-WR-TIMEZONE:Europe/Berlin
BEGIN:VEVENT
CLASS:PUBLIC
DTSTART;TZID="Europe/Berlin":20180610T193000
DTEND;TZID="Europe/Berlin":20180610T230000
LOCATION:Str. der Nationen 62\, Chemnitz (Altes Heizhaus)
SUMMARY:Ramadan Charity Dinner (Unicef Hochschulgruppe Tu Chemnitz)
DESCRIPTION:Was ist Ramadan? Warum fasten Muslime? Ihr habt Fragen\, wir wollen antworten! Euch erwartet eine Präsentation\, gefolgt von einer freundlichen Diskussion und gemeinsamen Fastenbrechen. Wir sammeln Spenden für das Unicef-Projekt „Kindheit braucht Frieden“.\n Dr Mohamad Bdiwi\ninfo@hochschulgruppe-chemnitz.unicef.de
ORGANIZER:MAILTO:hanan.fischer@s2013.tu-chemnitz.de
UID:19769@www.tu-chemnitz.de
CREATED:20180530T091500Z
DTSTAMP:20210802T190646Z
END:VEVENT
END:VCALENDAR
