BEGIN:VCALENDAR
VERSION:2.0
PRODID:TU Chemnitz
METHOD:PUBLISH
X-WR-CALNAME:Veranstaltungen der TU Chemnitz
X-WR-TIMEZONE:Europe/Berlin
BEGIN:VEVENT
CLASS:PUBLIC
DTSTART;TZID="Europe/Berlin":20180607T103000
DTEND;TZID="Europe/Berlin":20180607T180000
LOCATION:Wilhelm-Raabe-Str. 43\, Chemnitz
SUMMARY:Besetzungsverfahren für die W3-Professur "Prädiktive Verhaltensanalyse" (TU Chemnitz\, Fakultät für Human- und Sozialwissenschaften)
DESCRIPTION:Im Rahmen des Besetzungsverfahren für die W3-Professur "Prädiktive Verhaltensanalyse" finden am Donnerstag\, 07.06.2018 und Freitag\, 08.06.2018 in der W.-Raabe-Str. 43\, Raum 104 die Vorträge statt.\nJP Dr. Enkelejda Kasneci\, PD Dr. Agnes Koschmider\, Prof. Dr. Constantin A. Rothkopf\, \nProf. Dr. Josef Krems
ORGANIZER:MAILTO:anja.koehler@hsw.tu-chemnitz.de
UID:19764@www.tu-chemnitz.de
CREATED:20180528T125000Z
DTSTAMP:20210802T190644Z
END:VEVENT
END:VCALENDAR
